Workbook
Name ABANCAY: 'Lista Dpto Prov Dist'!$A$36:$A$44
Name ACOBAMBA: 'Lista Dpto Prov Dist'!$B$36:$B$43
Name ACOBAMBILLA: 'Lista Dpto Prov Dist'!$CG$36:$CG$54
Name ACOMAYO: 'Lista Dpto Prov Dist'!$C$36:$C$41
Name AIJA: 'Lista Dpto Prov Dist'!$D$36:$D$40
Name ALTOAMAZONAS: 'Lista Dpto Prov Dist'!$E$36:$E$46
Name AMAZONAS: 'Lista Dpto Prov Dist'!$B$2:$B$8
Name AMBO: 'Lista Dpto Prov Dist'!$F$36:$F$43
Name ANCASH: 'Lista Dpto Prov Dist'!$C$2:$C$21
Name ANDAHUAYLAS: 'Lista Dpto Prov Dist'!$G$36:$G$55
Name ANGARES: 'Lista Dpto Prov Dist'!$H$36:$H$55
Name ANTA: 'Lista Dpto Prov Dist'!$I$36:$I$47
Name ANTABAMBA: 'Lista Dpto Prov Dist'!$J$36:$J$42
Name ANTONIO_RAYMONDI: 'Lista Dpto Prov Dist'!$K$36:$K$41
Name APURIMAC: 'Lista Dpto Prov Dist'!$D$2:$D$8
Name AREQUIPA: 'Lista Dpto Prov Dist'!$E$2:$E$9
Name AREQUIPA_: 'Lista Dpto Prov Dist'!$L$36:$L$64
Name ASCOPE: 'Lista Dpto Prov Dist'!$M$36:$M$43
Name ASUNCION: 'Lista Dpto Prov Dist'!$N$36:$N$37
Name ASUNSION: 'Lista Dpto Prov Dist'!$AT$36:$AT$56
Name ATALAYA: 'Lista Dpto Prov Dist'!$O$36:$O$39
Name AYABACA: 'Lista Dpto Prov Dist'!$P$36:$P$45
Name AYACUCHO: 'Lista Dpto Prov Dist'!$F$2:$F$12
Name AYMARES: 'Lista Dpto Prov Dist'!$Q$36:$Q$52
Name AZANGARO: 'Lista Dpto Prov Dist'!$R$36:$R$50
Name BAGUA: 'Lista Dpto Prov Dist'!$S$36:$S$41
Name BARRANCA: 'Lista Dpto Prov Dist'!$T$36:$T$40
Name BELLAVISTA: 'Lista Dpto Prov Dist'!$U$36:$U$41
Name BOLIVAR: 'Lista Dpto Prov Dist'!$V$36:$V$41
Name BOLOGNESI: 'Lista Dpto Prov Dist'!$W$36:$W$50
Name BONGARA: 'Lista Dpto Prov Dist'!$X$36:$X$47
Name CAJABAMBA: 'Lista Dpto Prov Dist'!$Y$36:$Y$39
Name CAJAMARCA: 'Lista Dpto Prov Dist'!$G$2:$G$14
Name CAJATAMBO: 'Lista Dpto Prov Dist'!$AA$36:$AA$40
Name CALCA: 'Lista Dpto Prov Dist'!$AB$36:$AB$43
Name CALLAO: 'Lista Dpto Prov Dist'!$H$2
Name CALLAO_: 'Lista Dpto Prov Dist'!$AC$36:$AC$42
Name CAMANA: 'Lista Dpto Prov Dist'!$AD$36:$AD$43
Name CANAS: 'Lista Dpto Prov Dist'!$AE$36:$AE$43
Name CANCHIS: 'Lista Dpto Prov Dist'!$AF$36:$AF$43
Name CANDARAVE: 'Lista Dpto Prov Dist'!$AG$36:$AG$41
Name CANGALLO: 'Lista Dpto Prov Dist'!$AH$36:$AH$41
Name CANTA: 'Lista Dpto Prov Dist'!$AI$36:$AI$42
Name CAÑETE: 'Lista Dpto Prov Dist'!$AJ$36:$AJ$51
Name CARABAYA: 'Lista Dpto Prov Dist'!$AK$36:$AK$45
Name CARAVELI: 'Lista Dpto Prov Dist'!$AL$36:$AL$48
Name CARHUAZ: 'Lista Dpto Prov Dist'!$AM$36:$AM$46
Name CARLOS_FERMIN_FITZCARRALD: 'Lista Dpto Prov Dist'!$AN$36:$AN$38
Name CASMA: 'Lista Dpto Prov Dist'!$AO$36:$AO$39
Name CASTILLA: 'Lista Dpto Prov Dist'!$AP$36:$AP$49
Name CASTROVIRREYNA: 'Lista Dpto Prov Dist'!$AQ$36:$AQ$48
Name CAYLLOMA: 'Lista Dpto Prov Dist'!$AR$36:$AR$55
Name cb_6rem: 'Depositos CTS'!$AE$45
Name cb_apellido1: 'Depositos CTS'!$G$45
Name cb_apellido2: 'Depositos CTS'!$H$45
Name cb_importe: 'Depositos CTS'!$AD$45
Name cb_item: 'Depositos CTS'!$A$45
Name cb_ndoc: 'Depositos CTS'!$D$45
Name cb_nombre1: 'Depositos CTS'!$I$45
Name cb_nombre2: 'Depositos CTS'!$J$45

Sheet Depositos CTS
BG1: * Tipo Documento (1) | BH1: Longitud
BG2: 1 | BH2: 8
A3: PLANILLA DE APERTURA Y DEPÓSITO CTS | BG3: 4 | BH3: 9
A5: DATOS A LLENAR POR LA EMPRESA
A6: * Campos Obligatorios. La dirección indicada será usada para el envío de los estados de cuenta. **El correo electrónico será usado para coordinaciones ante cualquier eventualidad
B8: Efectivo | D8: Total importe Soles | F8: =+SUM(N46:N200) -> 0
B9: Depósito en Cta. Cte. | D9: Total Número de registos | F9: =+COUNT(O46:O200) -> 0
B10: Cheque de Gerencia | D10: Nro. Cheque | F10: Banco Cheque
A12: Señores
A13: Caja Cencosud del Grupo Scotiabank
A14: Presente.-
A16: Sirvanse procesar la siguiente información.
A17: Por la presente tambien y bajo nuestra exclusiva responsabilidad , declaro bajo juramento, que todos los pagos instruidos en el siguiente archivo, corresponden a nuestros trabajadores.
B19: * RUC | F19: * PERIODO DE ABONO
B21: * Razon Social
C23: * Direccion
C25: Moneda
C27: * Telefono | E27: Anexo | J27: Importante: Es de entera responsabilidad de la empresa el correcto llenado de esta planilla, por lo tanto ante un llenado parcial o incorrecto, la Caja no será responsable por las demoras o rechazos que puedan generarse
B29: * Nombre de Contacto
B31: ** E-mail
J32: (1) Tipo de Documento | K32: (2) Estado Civil | L32: (3) Sexo
J33: 1 = DNI | K33: 1 = SOLTERO | L33: M = MASCULINO
J34: 4 = CARNET DE EXTRANJERIA | K34: 2 = CASADO | L34: F = FEMENINO
K35: 3 = VIUDO
K36: 4 = DIVORCIADO
C38: Firma y sello: Representante legal empresa
A40: Detalle de apertura y abono semestral
A42: * Campos Obligatorios.
A43: ** Todos los registros deben indicar Estado "Conforme", de lo contrario no se podrá culminar el proceso de apertura y abonos de CTS
E44: =IF(F8<>0,F8," ") | K44: DATOS REQUERIDOS EN CASO SEA APERTURA DE CUENTA | X44: AUTOLLENADO
A45: Nro. | B45: * Apertura de Cuenta | C45: * Tipo Documento (1) | D45: * Numero Documento | E45: * Monto | F45: * Monto 4 (cuatro) Remuneraciones Brutas | G45: * Apellido Paterno | H45: * Apellido Materno | I45: * Primer Nombre | J45: * Segundo Nombre | K45: * Fecha de Nacimiento | L45: * Estado Civil (2) | M45: * Sexo (3) | N45: * Nacionalidad | O45: * Pais de Residencia | P45: * Domicilio | Q45: * Departamento | R45: * Provincia | S45: * Distrito | T45: * Teléfono Domicilio | U45: * Celular | V45: * Correo electrónico | W45: * Ocupación o Profesión | X45: *Código Nacionalidad | Y45: * Código Pais de Residencia | Z45: * Código Ocupación o Profesión | AA45: * Ubigeo Departamento | AB45: * Ubigeo Provincia | AC45: * Ubigeo Distrito | AD45: * RUC | AE45: * Razón Social | AF45: ** Estado
A46: 1 | X46: =IF(LEN(N46)>1,VLOOKUP(N46,Listas!$K$2:$L$259,2,0),"") | Y46: =IF(LEN(O46)>1,VLOOKUP(O46,Listas!$Q$2:$R$3,2,0),"") | Z46: =IF(LEN(W46)>1,VLOOKUP(W46,Listas!$N$2:$O$148,2,0),"") | AA46: =IF(LEN(Q46)>1,VLOOKUP(Q46,'Lista Dpto Prov Dist'!$A$73:$B$97,2,0),"") | AB46: =IF(LEN(Q46)>1,VLOOKUP(R46,'Lista Dpto Prov Dist'!$D$72:$E$268,2,0),"") | AC46: =IF(LEN(Q46)>1,VLOOKUP(S46,'Lista Dpto Prov Dist'!$G$73:$H$1951,2,0),"") | AD46: =IF(C46<>"",IF(dt_ruc="","",$D$19),"") | AE46: =IF(C46<>"",IF(dt_razon="","",dt_razon),"") | AF46: {=+IF(AD46:AE46<>"",IF(AND(B46="NO",COUNTBLANK(E46:I46)=0,COUNTBLANK(AD46:AE46)=0),"CONFORME",IF(AND(D46<>"",B46="SI",COUNTBLANK(E46:S46)=0,COUNTBLANK(T46:U46)<=1,COUNTBLANK(V46:AE46)=0),"CONFORME","INFORMACION INCOMPLETA")),"")}
A47: 2 | X47: =IF(LEN(N47)>1,VLOOKUP(N47,Listas!$K$2:$L$259,2,0),"") | Y47: =IF(LEN(O47)>1,VLOOKUP(O47,Listas!$Q$2:$R$3,2,0),"") | Z47: =IF(LEN(W47)>1,VLOOKUP(W47,Listas!$N$2:$O$148,2,0),"") | AA47: =IF(LEN(Q47)>1,VLOOKUP(Q47,'Lista Dpto Prov Dist'!$A$73:$B$97,2,0),"") | AB47: =IF(LEN(Q47)>1,VLOOKUP(R47,'Lista Dpto Prov Dist'!$D$72:$E$268,2,0),"") | AC47: =IF(LEN(Q47)>1,VLOOKUP(S47,'Lista Dpto Prov Dist'!$G$73:$H$1951,2,0),"") | AD47: =IF(C47<>"",IF(dt_ruc="","",$D$19),"") | AE47: =IF(C47<>"",IF(dt_razon="","",dt_razon),"") | AF47: {=+IF(AD47:AE47<>"",IF(AND(B47="NO",COUNTBLANK(E47:I47)=0,COUNTBLANK(AD47:AE47)=0),"CONFORME",IF(AND(D47<>"",B47="SI",COUNTBLANK(E47:S47)=0,COUNTBLANK(T47:U47)<=1,COUNTBLANK(V47:AE47)=0),"CONFORME","INFORMACION INCOMPLETA")),"")}
A48: 3 | X48: =IF(LEN(N48)>1,VLOOKUP(N48,Listas!$K$2:$L$259,2,0),"") | Y48: =IF(LEN(O48)>1,VLOOKUP(O48,Listas!$Q$2:$R$3,2,0),"") | Z48: =IF(LEN(W48)>1,VLOOKUP(W48,Listas!$N$2:$O$148,2,0),"") | AA48: =IF(LEN(Q48)>1,VLOOKUP(Q48,'Lista Dpto Prov Dist'!$A$73:$B$97,2,0),"") | AB48: =IF(LEN(Q48)>1,VLOOKUP(R48,'Lista Dpto Prov Dist'!$D$72:$E$268,2,0),"") | AC48: =IF(LEN(Q48)>1,VLOOKUP(S48,'Lista Dpto Prov Dist'!$G$73:$H$1951,2,0),"") | AD48: =IF(C48<>"",IF(dt_ruc="","",$D$19),"") | AE48: =IF(C48<>"",IF(dt_razon="","",dt_razon),"") | AF48: {=+IF(AD48:AE48<>"",IF(AND(B48="NO",COUNTBLANK(E48:I48)=0,COUNTBLANK(AD48:AE48)=0),"CONFORME",IF(AND(D48<>"",B48="SI",COUNTBLANK(E48:S48)=0,COUNTBLANK(T48:U48)<=1,COUNTBLANK(V48:AE48)=0),"CONFORME","INFORMACION INCOMPLETA")),"")}
A49: 4 | X49: =IF(LEN(N49)>1,VLOOKUP(N49,Listas!$K$2:$L$259,2,0),"") | Y49: =IF(LEN(N49)>1,VLOOKUP(N49,Listas!$Q$2:$R$3,2,0),"") | Z49: =IF(LEN(W49)>1,VLOOKUP(W49,Listas!$N$2:$O$148,2,0),"") | AA49: =IF(LEN(Q49)>1,VLOOKUP(Q49,'Lista Dpto Prov Dist'!$A$73:$B$97,2,0),"") | AB49: =IF(LEN(Q49)>1,VLOOKUP(R49,'Lista Dpto Prov Dist'!$D$72:$E$268,2,0),"") | AC49: =IF(LEN(Q49)>1,VLOOKUP(S49,'Lista Dpto Prov Dist'!$G$73:$H$1951,2,0),"") | AD49: =IF(C49<>"",IF(dt_ruc="","",$D$19),"") | AE49: =IF(C49<>"",IF(dt_razon="","",dt_razon),"") | AF49: {=+IF(AD49:AE49<>"",IF(AND(B49="NO",COUNTBLANK(E49:I49)=0,COUNTBLANK(AD49:AE49)=0),"CONFORME",IF(AND(D49<>"",B49="SI",COUNTBLANK(E49:S49)=0,COUNTBLANK(T49:U49)<=1,COUNTBLANK(V49:AE49)=0),"CONFORME","INFORMACION INCOMPLETA")),"")}
A50: 5 | X50: =IF(LEN(N50)>1,VLOOKUP(N50,Listas!$K$2:$L$259,2,0),"") | Y50: =IF(LEN(N50)>1,VLOOKUP(N50,Listas!$Q$2:$R$3,2,0),"") | Z50: =IF(LEN(W50)>1,VLOOKUP(W50,Listas!$N$2:$O$148,2,0),"") | AA50: =IF(LEN(Q50)>1,VLOOKUP(Q50,'Lista Dpto Prov Dist'!$A$73:$B$97,2,0),"") | AB50: =IF(LEN(Q50)>1,VLOOKUP(R50,'Lista Dpto Prov Dist'!$D$72:$E$268,2,0),"") | AC50: =IF(LEN(Q50)>1,VLOOKUP(S50,'Lista Dpto Prov Dist'!$G$73:$H$1951,2,0),"") | AD50: =IF(C50<>"",IF(dt_ruc="","",$D$19),"") | AE50: =IF(C50<>"",IF(dt_razon="","",dt_razon),"") | AF50: {=+IF(AD50:AE50<>"",IF(AND(B50="NO",COUNTBLANK(E50:I50)=0,COUNTBLANK(AD50:AE50)=0),"CONFORME",IF(AND(D50<>"",B50="SI",COUNTBLANK(E50:S50)=0,COUNTBLANK(T50:U50)<=1,COUNTBLANK(V50:AE50)=0),"CONFORME","INFORMACION INCOMPLETA")),"")}
A51: 6 | X51: =IF(LEN(N51)>1,VLOOKUP(N51,Listas!$K$2:$L$259,2,0),"") | Y51: =IF(LEN(N51)>1,VLOOKUP(N51,Listas!$Q$2:$R$3,2,0),"") | Z51: =IF(LEN(W51)>1,VLOOKUP(W51,Listas!$N$2:$O$148,2,0),"") | AA51: =IF(LEN(Q51)>1,VLOOKUP(Q51,'Lista Dpto Prov Dist'!$A$73:$B$97,2,0),"") | AB51: =IF(LEN(Q51)>1,VLOOKUP(R51,'Lista Dpto Prov Dist'!$D$72:$E$268,2,0),"") | AC51: =IF(LEN(Q51)>1,VLOOKUP(S51,'Lista Dpto Prov Dist'!$G$73:$H$1951,2,0),"") | AD51: =IF(C51<>"",IF(dt_ruc="","",$D$19),"") | AE51: =IF(C51<>"",IF(dt_razon="","",dt_razon),"") | AF51: =+IF(AE51<>"",IF(AND(B51="NO",COUNTBLANK(E51:I51)=0,COUNTBLANK(AD51:AE51)=0),"CONFORME",IF(AND(D51<>"",B51="SI",COUNTBLANK(E51:AE51)=0),"CONFORME","INFORMACION INCOMPLETA")),"")
A52: 7 | X52: =IF(LEN(N52)>1,VLOOKUP(N52,Listas!$K$2:$L$259,2,0),"") | Y52: =IF(LEN(N52)>1,VLOOKUP(N52,Listas!$Q$2:$R$3,2,0),"") | Z52: =IF(LEN(W52)>1,VLOOKUP(W52,Listas!$N$2:$O$148,2,0),"") | AA52: =IF(LEN(Q52)>1,VLOOKUP(Q52,'Lista Dpto Prov Dist'!$A$73:$B$97,2,0),"") | AB52: =IF(LEN(Q52)>1,VLOOKUP(R52,'Lista Dpto Prov Dist'!$D$72:$E$268,2,0),"") | AC52: =IF(LEN(Q52)>1,VLOOKUP(S52,'Lista Dpto Prov Dist'!$G$73:$H$1951,2,0),"") | AD52: =IF(C52<>"",IF(dt_ruc="","",$D$19),"") | AE52: =IF(C52<>"",IF(dt_razon="","",dt_razon),"") | AF52: =+IF(AE52<>"",IF(AND(B52="NO",COUNTBLANK(E52:I52)=0,COUNTBLANK(AD52:AE52)=0),"CONFORME",IF(AND(D52<>"",B52="SI",COUNTBLANK(E52:AE52)=0),"CONFORME","INFORMACION INCOMPLETA")),"")
A53: 8 | X53: =IF(LEN(N53)>1,VLOOKUP(N53,Listas!$K$2:$L$259,2,0),"") | Y53: =IF(LEN(N53)>1,VLOOKUP(N53,Listas!$Q$2:$R$3,2,0),"") | Z53: =IF(LEN(W53)>1,VLOOKUP(W53,Listas!$N$2:$O$148,2,0),"") | AA53: =IF(LEN(Q53)>1,VLOOKUP(Q53,'Lista Dpto Prov Dist'!$A$73:$B$97,2,0),"") | AB53: =IF(LEN(Q53)>1,VLOOKUP(R53,'Lista Dpto Prov Dist'!$D$72:$E$268,2,0),"") | AC53: =IF(LEN(Q53)>1,VLOOKUP(S53,'Lista Dpto Prov Dist'!$G$73:$H$1951,2,0),"") | AD53: =IF(C53<>"",IF(dt_ruc="","",$D$19),"") | AE53: =IF(C53<>"",IF(dt_razon="","",dt_razon),"") | AF53: =+IF(AE53<>"",IF(AND(B53="NO",COUNTBLANK(E53:I53)=0,COUNTBLANK(AD53:AE53)=0),"CONFORME",IF(AND(D53<>"",B53="SI",COUNTBLANK(E53:AE53)=0),"CONFORME","INFORMACION INCOMPLETA")),"")
A54: 9 | X54: =IF(LEN(N54)>1,VLOOKUP(N54,Listas!$K$2:$L$259,2,0),"") | Y54: =IF(LEN(N54)>1,VLOOKUP(N54,Listas!$Q$2:$R$3,2,0),"") | Z54: =IF(LEN(W54)>1,VLOOKUP(W54,Listas!$N$2:$O$148,2,0),"") | AA54: =IF(LEN(Q54)>1,VLOOKUP(Q54,'Lista Dpto Prov Dist'!$A$73:$B$97,2,0),"") | AB54: =IF(LEN(Q54)>1,VLOOKUP(R54,'Lista Dpto Prov Dist'!$D$72:$E$268,2,0),"") | AC54: =IF(LEN(Q54)>1,VLOOKUP(S54,'Lista Dpto Prov Dist'!$G$73:$H$1951,2,0),"") | AD54: =IF(C54<>"",IF(dt_ruc="","",$D$19),"") | AE54: =IF(C54<>"",IF(dt_razon="","",dt_razon),"") | AF54: =+IF(AE54<>"",IF(AND(B54="NO",COUNTBLANK(E54:I54)=0,COUNTBLANK(AD54:AE54)=0),"CONFORME",IF(AND(D54<>"",B54="SI",COUNTBLANK(E54:AE54)=0),"CONFORME","INFORMACION INCOMPLETA")),"")
...

Sheet Plantilla Carga ADN
A1: Nro. | B1: * Apertura de Cuenta | C1: * Tipo Documento (1) | D1: * Numero Documento | E1: FecAbono | F1: Monto | G1: Moneda | H1: TipoAbono | I1: Monto Remuneracion | J1: Apellido Paterno | K1: Apellido Materno | L1: Primer Nombre | M1: Segundo Nombre | N1: Fec. Nacimiento | O1: Estado Civil | P1: Sexo | Q1: Código Nacionalidad | R1: Código Pais de Residencia | S1: Domicilio | T1: Ubigeo Distrito | U1: Teléfono Domicilio | V1: Celular | W1: Correo electrónico | X1: Código Ocupación o Profesión | Y1: Ruc Empresa | Z1: Razon Social
A2: =+'Depositos CTS'!A46 -> 1 | B2: =+'Depositos CTS'!B46 -> 0 | C2: ='Depositos CTS'!C46 -> 0 | D2: ='Depositos CTS'!D46 -> 0 | F2: =+'Depositos CTS'!E46 -> 0 | I2: =+'Depositos CTS'!F46 -> 0 | J2: =IF('Depositos CTS'!$B46="SI",'Depositos CTS'!G46,'Depositos CTS'!G46) -> 0 | K2: =IF('Depositos CTS'!$B46="SI",'Depositos CTS'!H46,'Depositos CTS'!H46) -> 0 | L2: =IF('Depositos CTS'!$B46="SI",'Depositos CTS'!I46,'Depositos CTS'!I46) -> 0 | M2: =IF('Depositos CTS'!$B46="SI",'Depositos CTS'!J46,'Depositos CTS'!J46) -> 0 | N2: =IF('Depositos CTS'!$B46="SI",'Depositos CTS'!K46,"01/01/2000") -> 01/01/2000 | O2: =IF('Depositos CTS'!$B46="SI",'Depositos CTS'!L46,"6") -> 6 | P2: =IF('Depositos CTS'!$B46="SI",'Depositos CTS'!M46,"M") -> M | Q2: =IF('Depositos CTS'!$B46="SI",'Depositos CTS'!X46,"04028") -> 04028 | R2: =IF('Depositos CTS'!$B46="SI",'Depositos CTS'!Y46,"0") -> 0 | S2: =IF('Depositos CTS'!$B46="SI",'Depositos CTS'!P46,"X") -> X | T2: =IF('Depositos CTS'!$B46="SI",'Depositos CTS'!AC46,"315012200000") -> 315012200000 | U2: =IF('Depositos CTS'!$B46="SI",'Depositos CTS'!T46,"000000") -> 000000 | V2: =IF('Depositos CTS'!$B46="SI",'Depositos CTS'!U46,"999999999") -> 999999999 | W2: =IF('Depositos CTS'!$B46="SI",'Depositos CTS'!V46,"xxx@xxx.xxx") -> xxx@xxx.xxx | X2: =IF('Depositos CTS'!$B46="SI",'Depositos CTS'!Z46,"147") -> 147 | Y2: =+'Depositos CTS'!AD46 | Z2: =+'Depositos CTS'!AE46
A3: =+'Depositos CTS'!A47 -> 2 | B3: =+'Depositos CTS'!B47 -> 0 | C3: ='Depositos CTS'!C47 -> 0 | D3: ='Depositos CTS'!D47 -> 0 | F3: =+'Depositos CTS'!E47 -> 0 | I3: =+'Depositos CTS'!F47 -> 0 | J3: =IF('Depositos CTS'!$B47="SI",'Depositos CTS'!G47,'Depositos CTS'!G47) -> 0 | K3: =IF('Depositos CTS'!$B47="SI",'Depositos CTS'!H47,'Depositos CTS'!H47) -> 0 | L3: =IF('Depositos CTS'!$B47="SI",'Depositos CTS'!I47,'Depositos CTS'!I47) -> 0 | M3: =IF('Depositos CTS'!$B47="SI",'Depositos CTS'!J47,'Depositos CTS'!J47) -> 0 | N3: =IF('Depositos CTS'!$B47="SI",'Depositos CTS'!K47,"01/01/2000") -> 01/01/2000 | O3: =IF('Depositos CTS'!$B47="SI",'Depositos CTS'!L47,"6") -> 6 | P3: =IF('Depositos CTS'!$B47="SI",'Depositos CTS'!M47,"M") -> M | Q3: =IF('Depositos CTS'!$B47="SI",'Depositos CTS'!X47,"04028") -> 04028 | R3: =IF('Depositos CTS'!$B47="SI",'Depositos CTS'!Y47,"0") -> 0 | S3: =IF('Depositos CTS'!$B47="SI",'Depositos CTS'!P47,"X") -> X | T3: =IF('Depositos CTS'!$B47="SI",'Depositos CTS'!AC47,"315012200000") -> 315012200000 | U3: =IF('Depositos CTS'!$B47="SI",'Depositos CTS'!T47,"000000") -> 000000 | V3: =IF('Depositos CTS'!$B47="SI",'Depositos CTS'!U47,"999999999") -> 999999999 | W3: =IF('Depositos CTS'!$B47="SI",'Depositos CTS'!V47,"xxx@xxx.xxx") -> xxx@xxx.xxx | X3: =IF('Depositos CTS'!$B47="SI",'Depositos CTS'!Z47,"147") -> 147 | Y3: =+'Depositos CTS'!AD47 | Z3: =+'Depositos CTS'!AE47
A4: =+'Depositos CTS'!A48 -> 3 | B4: =+'Depositos CTS'!B48 -> 0 | C4: ='Depositos CTS'!C48 -> 0 | D4: ='Depositos CTS'!D48 -> 0 | F4: =+'Depositos CTS'!E48 -> 0 | I4: =+'Depositos CTS'!F48 -> 0 | J4: =IF('Depositos CTS'!$B48="SI",'Depositos CTS'!G48,'Depositos CTS'!G48) -> 0 | K4: =IF('Depositos CTS'!$B48="SI",'Depositos CTS'!H48,'Depositos CTS'!H48) -> 0 | L4: =IF('Depositos CTS'!$B48="SI",'Depositos CTS'!I48,'Depositos CTS'!I48) -> 0 | M4: =IF('Depositos CTS'!$B48="SI",'Depositos CTS'!J48,'Depositos CTS'!J48) -> 0 | N4: =IF('Depositos CTS'!$B48="SI",'Depositos CTS'!K48,"01/01/2000") -> 01/01/2000 | O4: =IF('Depositos CTS'!$B48="SI",'Depositos CTS'!L48,"6") -> 6 | P4: =IF('Depositos CTS'!$B48="SI",'Depositos CTS'!M48,"M") -> M | Q4: =IF('Depositos CTS'!$B48="SI",'Depositos CTS'!X48,"04028") -> 04028 | R4: =IF('Depositos CTS'!$B48="SI",'Depositos CTS'!Y48,"0") -> 0 | S4: =IF('Depositos CTS'!$B48="SI",'Depositos CTS'!P48,"X") -> X | T4: =IF('Depositos CTS'!$B48="SI",'Depositos CTS'!AC48,"315012200000") -> 315012200000 | U4: =IF('Depositos CTS'!$B48="SI",'Depositos CTS'!T48,"000000") -> 000000 | V4: =IF('Depositos CTS'!$B48="SI",'Depositos CTS'!U48,"999999999") -> 999999999 | W4: =IF('Depositos CTS'!$B48="SI",'Depositos CTS'!V48,"xxx@xxx.xxx") -> xxx@xxx.xxx | X4: =IF('Depositos CTS'!$B48="SI",'Depositos CTS'!Z48,"147") -> 147 | Y4: =+'Depositos CTS'!AD48 | Z4: =+'Depositos CTS'!AE48
A5: =+'Depositos CTS'!A49 -> 4 | B5: =+'Depositos CTS'!B49 -> 0 | C5: ='Depositos CTS'!C49 -> 0 | D5: ='Depositos CTS'!D49 -> 0 | F5: =+'Depositos CTS'!E49 -> 0 | I5: =+'Depositos CTS'!F49 -> 0 | J5: =IF('Depositos CTS'!$B49="SI",'Depositos CTS'!G49,'Depositos CTS'!G49) -> 0 | K5: =IF('Depositos CTS'!$B49="SI",'Depositos CTS'!H49,'Depositos CTS'!H49) -> 0 | L5: =IF('Depositos CTS'!$B49="SI",'Depositos CTS'!I49,'Depositos CTS'!I49) -> 0 | M5: =IF('Depositos CTS'!$B49="SI",'Depositos CTS'!J49,'Depositos CTS'!J49) -> 0 | N5: =IF('Depositos CTS'!$B49="SI",'Depositos CTS'!K49,"01/01/2000") -> 01/01/2000 | O5: =IF('Depositos CTS'!$B49="SI",'Depositos CTS'!L49,"6") -> 6 | P5: =IF('Depositos CTS'!$B49="SI",'Depositos CTS'!M49,"M") -> M | Q5: =IF('Depositos CTS'!$B49="SI",'Depositos CTS'!X49,"04028") -> 04028 | R5: =IF('Depositos CTS'!$B49="SI",'Depositos CTS'!Y49,"0") -> 0 | S5: =IF('Depositos CTS'!$B49="SI",'Depositos CTS'!P49,"X") -> X | T5: =IF('Depositos CTS'!$B49="SI",'Depositos CTS'!AC49,"315012200000") -> 315012200000 | U5: =IF('Depositos CTS'!$B49="SI",'Depositos CTS'!T49,"000000") -> 000000 | V5: =IF('Depositos CTS'!$B49="SI",'Depositos CTS'!U49,"999999999") -> 999999999 | W5: =IF('Depositos CTS'!$B49="SI",'Depositos CTS'!V49,"xxx@xxx.xxx") -> xxx@xxx.xxx | X5: =IF('Depositos CTS'!$B49="SI",'Depositos CTS'!Z49,"147") -> 147 | Y5: =+'Depositos CTS'!AD49 | Z5: =+'Depositos CTS'!AE49
A6: =+'Depositos CTS'!A50 -> 5 | B6: =+'Depositos CTS'!B50 -> 0 | C6: ='Depositos CTS'!C50 -> 0 | D6: ='Depositos CTS'!D50 -> 0 | F6: =+'Depositos CTS'!E50 -> 0 | I6: =+'Depositos CTS'!F50 -> 0 | J6: =IF('Depositos CTS'!$B50="SI",'Depositos CTS'!G50,'Depositos CTS'!G50) -> 0 | K6: =IF('Depositos CTS'!$B50="SI",'Depositos CTS'!H50,'Depositos CTS'!H50) -> 0 | L6: =IF('Depositos CTS'!$B50="SI",'Depositos CTS'!I50,'Depositos CTS'!I50) -> 0 | M6: =IF('Depositos CTS'!$B50="SI",'Depositos CTS'!J50,'Depositos CTS'!J50) -> 0 | N6: =IF('Depositos CTS'!$B50="SI",'Depositos CTS'!K50,"01/01/2000") -> 01/01/2000 | O6: =IF('Depositos CTS'!$B50="SI",'Depositos CTS'!L50,"6") -> 6 | P6: =IF('Depositos CTS'!$B50="SI",'Depositos CTS'!M50,"M") -> M | Q6: =IF('Depositos CTS'!$B50="SI",'Depositos CTS'!X50,"04028") -> 04028 | R6: =IF('Depositos CTS'!$B50="SI",'Depositos CTS'!Y50,"0") -> 0 | S6: =IF('Depositos CTS'!$B50="SI",'Depositos CTS'!P50,"X") -> X | T6: =IF('Depositos CTS'!$B50="SI",'Depositos CTS'!AC50,"315012200000") -> 315012200000 | U6: =IF('Depositos CTS'!$B50="SI",'Depositos CTS'!T50,"000000") -> 000000 | V6: =IF('Depositos CTS'!$B50="SI",'Depositos CTS'!U50,"999999999") -> 999999999 | W6: =IF('Depositos CTS'!$B50="SI",'Depositos CTS'!V50,"xxx@xxx.xxx") -> xxx@xxx.xxx | X6: =IF('Depositos CTS'!$B50="SI",'Depositos CTS'!Z50,"147") -> 147 | Y6: =+'Depositos CTS'!AD50 | Z6: =+'Depositos CTS'!AE50
A7: =+'Depositos CTS'!A51 -> 6 | B7: =+'Depositos CTS'!B51 -> 0 | C7: ='Depositos CTS'!C51 -> 0 | D7: ='Depositos CTS'!D51 -> 0 | F7: =+'Depositos CTS'!E51 -> 0 | I7: =+'Depositos CTS'!F51 -> 0 | J7: =IF('Depositos CTS'!$B51="SI",'Depositos CTS'!G51,'Depositos CTS'!G51) -> 0 | K7: =IF('Depositos CTS'!$B51="SI",'Depositos CTS'!H51,'Depositos CTS'!H51) -> 0 | L7: =IF('Depositos CTS'!$B51="SI",'Depositos CTS'!I51,'Depositos CTS'!I51) -> 0 | M7: =IF('Depositos CTS'!$B51="SI",'Depositos CTS'!J51,'Depositos CTS'!J51) -> 0 | N7: =IF('Depositos CTS'!$B51="SI",'Depositos CTS'!K51,"01/01/2000") -> 01/01/2000 | O7: =IF('Depositos CTS'!$B51="SI",'Depositos CTS'!L51,"6") -> 6 | P7: =IF('Depositos CTS'!$B51="SI",'Depositos CTS'!M51,"M") -> M | Q7: =IF('Depositos CTS'!$B51="SI",'Depositos CTS'!X51,"04028") -> 04028 | R7: =IF('Depositos CTS'!$B51="SI",'Depositos CTS'!Y51,"0") -> 0 | S7: =IF('Depositos CTS'!$B51="SI",'Depositos CTS'!P51,"X") -> X | T7: =IF('Depositos CTS'!$B51="SI",'Depositos CTS'!AC51,"315012200000") -> 315012200000 | U7: =IF('Depositos CTS'!$B51="SI",'Depositos CTS'!T51,"000000") -> 000000 | V7: =IF('Depositos CTS'!$B51="SI",'Depositos CTS'!U51,"999999999") -> 999999999 | W7: =IF('Depositos CTS'!$B51="SI",'Depositos CTS'!V51,"xxx@xxx.xxx") -> xxx@xxx.xxx | X7: =IF('Depositos CTS'!$B51="SI",'Depositos CTS'!Z51,"147") -> 147 | Y7: =+'Depositos CTS'!AD51 | Z7: =+'Depositos CTS'!AE51
A8: =+'Depositos CTS'!A52 -> 7 | B8: =+'Depositos CTS'!B52 -> 0 | C8: ='Depositos CTS'!C52 -> 0 | D8: ='Depositos CTS'!D52 -> 0 | F8: =+'Depositos CTS'!E52 -> 0 | I8: =+'Depositos CTS'!F52 -> 0 | J8: =IF('Depositos CTS'!$B52="SI",'Depositos CTS'!G52,'Depositos CTS'!G52) -> 0 | K8: =IF('Depositos CTS'!$B52="SI",'Depositos CTS'!H52,'Depositos CTS'!H52) -> 0 | L8: =IF('Depositos CTS'!$B52="SI",'Depositos CTS'!I52,'Depositos CTS'!I52) -> 0 | M8: =IF('Depositos CTS'!$B52="SI",'Depositos CTS'!J52,'Depositos CTS'!J52) -> 0 | N8: =IF('Depositos CTS'!$B52="SI",'Depositos CTS'!K52,"01/01/2000") -> 01/01/2000 | O8: =IF('Depositos CTS'!$B52="SI",'Depositos CTS'!L52,"6") -> 6 | P8: =IF('Depositos CTS'!$B52="SI",'Depositos CTS'!M52,"M") -> M | Q8: =IF('Depositos CTS'!$B52="SI",'Depositos CTS'!X52,"04028") -> 04028 | R8: =IF('Depositos CTS'!$B52="SI",'Depositos CTS'!Y52,"0") -> 0 | S8: =IF('Depositos CTS'!$B52="SI",'Depositos CTS'!P52,"X") -> X | T8: =IF('Depositos CTS'!$B52="SI",'Depositos CTS'!AC52,"315012200000") -> 315012200000 | U8: =IF('Depositos CTS'!$B52="SI",'Depositos CTS'!T52,"000000") -> 000000 | V8: =IF('Depositos CTS'!$B52="SI",'Depositos CTS'!U52,"999999999") -> 999999999 | W8: =IF('Depositos CTS'!$B52="SI",'Depositos CTS'!V52,"xxx@xxx.xxx") -> xxx@xxx.xxx | X8: =IF('Depositos CTS'!$B52="SI",'Depositos CTS'!Z52,"147") -> 147 | Y8: =+'Depositos CTS'!AD52 | Z8: =+'Depositos CTS'!AE52
A9: =+'Depositos CTS'!A53 -> 8 | B9: =+'Depositos CTS'!B53 -> 0 | C9: ='Depositos CTS'!C53 -> 0 | D9: ='Depositos CTS'!D53 -> 0 | F9: =+'Depositos CTS'!E53 -> 0 | I9: =+'Depositos CTS'!F53 -> 0 | J9: =IF('Depositos CTS'!$B53="SI",'Depositos CTS'!G53,'Depositos CTS'!G53) -> 0 | K9: =IF('Depositos CTS'!$B53="SI",'Depositos CTS'!H53,'Depositos CTS'!H53) -> 0 | L9: =IF('Depositos CTS'!$B53="SI",'Depositos CTS'!I53,'Depositos CTS'!I53) -> 0 | M9: =IF('Depositos CTS'!$B53="SI",'Depositos CTS'!J53,'Depositos CTS'!J53) -> 0 | N9: =IF('Depositos CTS'!$B53="SI",'Depositos CTS'!K53,"01/01/2000") -> 01/01/2000 | O9: =IF('Depositos CTS'!$B53="SI",'Depositos CTS'!L53,"6") -> 6 | P9: =IF('Depositos CTS'!$B53="SI",'Depositos CTS'!M53,"M") -> M | Q9: =IF('Depositos CTS'!$B53="SI",'Depositos CTS'!X53,"04028") -> 04028 | R9: =IF('Depositos CTS'!$B53="SI",'Depositos CTS'!Y53,"0") -> 0 | S9: =IF('Depositos CTS'!$B53="SI",'Depositos CTS'!P53,"X") -> X | T9: =IF('Depositos CTS'!$B53="SI",'Depositos CTS'!AC53,"315012200000") -> 315012200000 | U9: =IF('Depositos CTS'!$B53="SI",'Depositos CTS'!T53,"000000") -> 000000 | V9: =IF('Depositos CTS'!$B53="SI",'Depositos CTS'!U53,"999999999") -> 999999999 | W9: =IF('Depositos CTS'!$B53="SI",'Depositos CTS'!V53,"xxx@xxx.xxx") -> xxx@xxx.xxx | X9: =IF('Depositos CTS'!$B53="SI",'Depositos CTS'!Z53,"147") -> 147 | Y9: =+'Depositos CTS'!AD53 | Z9: =+'Depositos CTS'!AE53
A10: =+'Depositos CTS'!A54 -> 9 | B10: =+'Depositos CTS'!B54 -> 0 | C10: ='Depositos CTS'!C54 -> 0 | D10: ='Depositos CTS'!D54 -> 0 | F10: =+'Depositos CTS'!E54 -> 0 | I10: =+'Depositos CTS'!F54 -> 0 | J10: =IF('Depositos CTS'!$B54="SI",'Depositos CTS'!G54,'Depositos CTS'!G54) -> 0 | K10: =IF('Depositos CTS'!$B54="SI",'Depositos CTS'!H54,'Depositos CTS'!H54) -> 0 | L10: =IF('Depositos CTS'!$B54="SI",'Depositos CTS'!I54,'Depositos CTS'!I54) -> 0 | M10: =IF('Depositos CTS'!$B54="SI",'Depositos CTS'!J54,'Depositos CTS'!J54) -> 0 | N10: =IF('Depositos CTS'!$B54="SI",'Depositos CTS'!K54,"01/01/2000") -> 01/01/2000 | O10: =IF('Depositos CTS'!$B54="SI",'Depositos CTS'!L54,"6") -> 6 | P10: =IF('Depositos CTS'!$B54="SI",'Depositos CTS'!M54,"M") -> M | Q10: =IF('Depositos CTS'!$B54="SI",'Depositos CTS'!X54,"04028") -> 04028 | R10: =IF('Depositos CTS'!$B54="SI",'Depositos CTS'!Y54,"0") -> 0 | S10: =IF('Depositos CTS'!$B54="SI",'Depositos CTS'!P54,"X") -> X | T10: =IF('Depositos CTS'!$B54="SI",'Depositos CTS'!AC54,"315012200000") -> 315012200000 | U10: =IF('Depositos CTS'!$B54="SI",'Depositos CTS'!T54,"000000") -> 000000 | V10: =IF('Depositos CTS'!$B54="SI",'Depositos CTS'!U54,"999999999") -> 999999999 | W10: =IF('Depositos CTS'!$B54="SI",'Depositos CTS'!V54,"xxx@xxx.xxx") -> xxx@xxx.xxx | X10: =IF('Depositos CTS'!$B54="SI",'Depositos CTS'!Z54,"147") -> 147 | Y10: =+'Depositos CTS'!AD54 | Z10: =+'Depositos CTS'!AE54
A11: =+'Depositos CTS'!A55 -> 10 | B11: =+'Depositos CTS'!B55 -> 0 | C11: ='Depositos CTS'!C55 -> 0 | D11: ='Depositos CTS'!D55 -> 0 | F11: =+'Depositos CTS'!E55 -> 0 | I11: =+'Depositos CTS'!F55 -> 0 | J11: =IF('Depositos CTS'!$B55="SI",'Depositos CTS'!G55,'Depositos CTS'!G55) -> 0 | K11: =IF('Depositos CTS'!$B55="SI",'Depositos CTS'!H55,'Depositos CTS'!H55) -> 0 | L11: =IF('Depositos CTS'!$B55="SI",'Depositos CTS'!I55,'Depositos CTS'!I55) -> 0 | M11: =IF('Depositos CTS'!$B55="SI",'Depositos CTS'!J55,'Depositos CTS'!J55) -> 0 | N11: =IF('Depositos CTS'!$B55="SI",'Depositos CTS'!K55,"01/01/2000") -> 01/01/2000 | O11: =IF('Depositos CTS'!$B55="SI",'Depositos CTS'!L55,"6") -> 6 | P11: =IF('Depositos CTS'!$B55="SI",'Depositos CTS'!M55,"M") -> M | Q11: =IF('Depositos CTS'!$B55="SI",'Depositos CTS'!X55,"04028") -> 04028 | R11: =IF('Depositos CTS'!$B55="SI",'Depositos CTS'!Y55,"0") -> 0 | S11: =IF('Depositos CTS'!$B55="SI",'Depositos CTS'!P55,"X") -> X | T11: =IF('Depositos CTS'!$B55="SI",'Depositos CTS'!AC55,"315012200000") -> 315012200000 | U11: =IF('Depositos CTS'!$B55="SI",'Depositos CTS'!T55,"000000") -> 000000 | V11: =IF('Depositos CTS'!$B55="SI",'Depositos CTS'!U55,"999999999") -> 999999999 | W11: =IF('Depositos CTS'!$B55="SI",'Depositos CTS'!V55,"xxx@xxx.xxx") -> xxx@xxx.xxx | X11: =IF('Depositos CTS'!$B55="SI",'Depositos CTS'!Z55,"147") -> 147 | Y11: =+'Depositos CTS'!AD55 | Z11: =+'Depositos CTS'!AE55
A12: =+'Depositos CTS'!A56 -> 11 | B12: =+'Depositos CTS'!B56 -> 0 | C12: ='Depositos CTS'!C56 -> 0 | D12: ='Depositos CTS'!D56 -> 0 | F12: =+'Depositos CTS'!E56 -> 0 | I12: =+'Depositos CTS'!F56 -> 0 | J12: =IF('Depositos CTS'!$B56="SI",'Depositos CTS'!G56,'Depositos CTS'!G56) -> 0 | K12: =IF('Depositos CTS'!$B56="SI",'Depositos CTS'!H56,'Depositos CTS'!H56) -> 0 | L12: =IF('Depositos CTS'!$B56="SI",'Depositos CTS'!I56,'Depositos CTS'!I56) -> 0 | M12: =IF('Depositos CTS'!$B56="SI",'Depositos CTS'!J56,'Depositos CTS'!J56) -> 0 | N12: =IF('Depositos CTS'!$B56="SI",'Depositos CTS'!K56,"01/01/2000") -> 01/01/2000 | O12: =IF('Depositos CTS'!$B56="SI",'Depositos CTS'!L56,"6") -> 6 | P12: =IF('Depositos CTS'!$B56="SI",'Depositos CTS'!M56,"M") -> M | Q12: =IF('Depositos CTS'!$B56="SI",'Depositos CTS'!X56,"04028") -> 04028 | R12: =IF('Depositos CTS'!$B56="SI",'Depositos CTS'!Y56,"0") -> 0 | S12: =IF('Depositos CTS'!$B56="SI",'Depositos CTS'!P56,"X") -> X | T12: =IF('Depositos CTS'!$B56="SI",'Depositos CTS'!AC56,"315012200000") -> 315012200000 | U12: =IF('Depositos CTS'!$B56="SI",'Depositos CTS'!T56,"000000") -> 000000 | V12: =IF('Depositos CTS'!$B56="SI",'Depositos CTS'!U56,"999999999") -> 999999999 | W12: =IF('Depositos CTS'!$B56="SI",'Depositos CTS'!V56,"xxx@xxx.xxx") -> xxx@xxx.xxx | X12: =IF('Depositos CTS'!$B56="SI",'Depositos CTS'!Z56,"147") -> 147 | Y12: =+'Depositos CTS'!AD56 | Z12: =+'Depositos CTS'!AE56
A13: =+'Depositos CTS'!A57 -> 12 | B13: =+'Depositos CTS'!B57 -> 0 | C13: ='Depositos CTS'!C57 -> 0 | D13: ='Depositos CTS'!D57 -> 0 | F13: =+'Depositos CTS'!E57 -> 0 | I13: =+'Depositos CTS'!F57 -> 0 | J13: =IF('Depositos CTS'!$B57="SI",'Depositos CTS'!G57,'Depositos CTS'!G57) -> 0 | K13: =IF('Depositos CTS'!$B57="SI",'Depositos CTS'!H57,'Depositos CTS'!H57) -> 0 | L13: =IF('Depositos CTS'!$B57="SI",'Depositos CTS'!I57,'Depositos CTS'!I57) -> 0 | M13: =IF('Depositos CTS'!$B57="SI",'Depositos CTS'!J57,'Depositos CTS'!J57) -> 0 | N13: =IF('Depositos CTS'!$B57="SI",'Depositos CTS'!K57,"01/01/2000") -> 01/01/2000 | O13: =IF('Depositos CTS'!$B57="SI",'Depositos CTS'!L57,"6") -> 6 | P13: =IF('Depositos CTS'!$B57="SI",'Depositos CTS'!M57,"M") -> M | Q13: =IF('Depositos CTS'!$B57="SI",'Depositos CTS'!X57,"04028") -> 04028 | R13: =IF('Depositos CTS'!$B57="SI",'Depositos CTS'!Y57,"0") -> 0 | S13: =IF('Depositos CTS'!$B57="SI",'Depositos CTS'!P57,"X") -> X | T13: =IF('Depositos CTS'!$B57="SI",'Depositos CTS'!AC57,"315012200000") -> 315012200000 | U13: =IF('Depositos CTS'!$B57="SI",'Depositos CTS'!T57,"000000") -> 000000 | V13: =IF('Depositos CTS'!$B57="SI",'Depositos CTS'!U57,"999999999") -> 999999999 | W13: =IF('Depositos CTS'!$B57="SI",'Depositos CTS'!V57,"xxx@xxx.xxx") -> xxx@xxx.xxx | X13: =IF('Depositos CTS'!$B57="SI",'Depositos CTS'!Z57,"147") -> 147 | Y13: =+'Depositos CTS'!AD57 | Z13: =+'Depositos CTS'!AE57
... A156: =+'Depositos CTS'!A200 -> 155 | B156: =+'Depositos CTS'!B200 -> 0 | C156: ='Depositos CTS'!C200 -> 0 | D156: ='Depositos CTS'!D200 -> 0 | F156: =+'Depositos CTS'!E200 -> 0 | I156: =+'Depositos CTS'!F200 -> 0 | J156: =IF('Depositos CTS'!$B200="SI",'Depositos CTS'!G200,'Depositos CTS'!G200) -> 0 | K156: =IF('Depositos CTS'!$B200="SI",'Depositos CTS'!H200,'Depositos CTS'!H200) -> 0 | L156: =IF('Depositos CTS'!$B200="SI",'Depositos CTS'!I200,'Depositos CTS'!I200) -> 0 | M156: =IF('Depositos CTS'!$B200="SI",'Depositos CTS'!J200,'Depositos CTS'!J200) -> 0 | N156: =IF('Depositos CTS'!$B200="SI",'Depositos CTS'!K200,"01/01/2000") -> 01/01/2000 | O156: =IF('Depositos CTS'!$B200="SI",'Depositos CTS'!L200,"6") -> 6 | P156: =IF('Depositos CTS'!$B200="SI",'Depositos CTS'!M200,"M") -> M | Q156: =IF('Depositos CTS'!$B200="SI",'Depositos CTS'!X200,"04028") -> 04028 | R156: =IF('Depositos CTS'!$B200="SI",'Depositos CTS'!Y200,"0") -> 0 | S156: =IF('Depositos CTS'!$B200="SI",'Depositos CTS'!P200,"X") -> X | T156: =IF('Depositos CTS'!$B200="SI",'Depositos CTS'!AC200,"315012200000") -> 315012200000 | U156: =IF('Depositos CTS'!$B200="SI",'Depositos CTS'!T200,"000000") -> 000000 | V156: =IF('Depositos CTS'!$B200="SI",'Depositos CTS'!U200,"999999999") -> 999999999 | W156: =IF('Depositos CTS'!$B200="SI",'Depositos CTS'!V200,"xxx@xxx.xxx") -> xxx@xxx.xxx | X156: =IF('Depositos CTS'!$B200="SI",'Depositos CTS'!Z200,"147") -> 147 | Y156: =+'Depositos CTS'!AD200 | Z156: =+'Depositos CTS'!AE200

Sheet Listas
A1: Nacionalidad | C1: PROFESION | K1: PAIS | N1: PROFESION
A2: PERU | C2: ABOGADO | K2: ISLAS SVALBARD Y JAN MAYEN | L2: 06052 | N2: ABOGADO | O2: 1 | Q2: EXTRANJERO | R2: 1
A3: AFGHANISTAN | C3: ACTOR, ACTRIZ, ARTISTA, DIRECTOR DE ESPECTÁCULOS, | K3: JERSEY | L3: 06053 | N3: ACTOR, ACTRIZ, ARTISTA, DIRECTOR DE ESPECTÁCULOS, | O3: 2 | Q3: PERU | R3: 0
A4: ALAND | C4: ACTUARIO | K4: LATVIA | L4: 06054 | N4: ACTUARIO | O4: 3
A5: ALBANIA | C5: ADMINISTRADOR DE EMPRESAS | K5: REPUBLICA CHECA | L5: 06055 | N5: ADMINISTRADOR DE EMPRESAS | O5: 4
A6: ALEMANIA | C6: ADUANERO/AGENTE DE ADUANAS/INSPECTORES DE FRONTERA | K6: REPUBLICA DE CROACIA | L6: 06056 | N6: ADUANERO/AGENTE DE ADUANAS/INSPECTORES DE FRONTERA | O6: 5
A7: ANDORRA | C7: AEROMOZO/ AZAFATA | K7: TERR. OCUPADO DE PALESTINA | L7: 06057 | N7: AEROMOZO/ AZAFATA | O7: 6
A8: ANGOLA | C8: AGENTE / INTERMEDIARIO / CORREDOR INMOBILIARIO | K8: ANTILLAS HOLANDESAS | L8: 07014 | N8: AGENTE / INTERMEDIARIO / CORREDOR INMOBILIARIO | O8: 7
A9: ANGUILLA | C9: AGENTE DE BOLSA | K9: ISLA NORFOLK | L9: 07015 | N9: AGENTE DE BOLSA | O9: 8
A10: ANTARTIDA | C10: AGENTE DE INMIGRACIÓN/MIGRACIÓN | K10: ISLAS COCOS | L10: 07016 | N10: AGENTE DE INMIGRACIÓN/MIGRACIÓN | O10: 9
A11: ANTIGUA Y BARBUDA | C11: AGENTE DE TURISMO/VIAJES | K11: ISLAS COOK | L11: 07017 | N11: AGENTE DE TURISMO/VIAJES | O11: 10
A12: ANTILLAS HOLANDESAS | C12: AGENTE/INTERMEDIARIO/CORREDOR DE SEGUROS | K12: ISLAS HEARD Y MCDONALD | L12: 07018 | N12: AGENTE/INTERMEDIARIO/CORREDOR DE SEGUROS | O12: 11
A13: ARABIA SAUDITA | C13: AGRICULTOR, AGRÓNOMO, AGRÓLOGO, ARBORICULTOR, AG | K13: ISLAS MARIANA DEL NORTE | L13: 07019 | N13: AGRICULTOR, AGRÓNOMO, AGRÓLOGO, ARBORICULTOR, AG | O13: 12
A14: ARGELIA | C14: ALBAÑIL, OBRERO DE CONSTRUCCIÓN | K14: ISLAS MIDWAY | L14: 07020 | N14: ALBAÑIL, OBRERO DE CONSTRUCCIÓN | O14: 13
A15: ARGENTINA | C15: AMA DE CASA | K15: ISLAS PITCAIRN | L15: 07021 | N15: AMA DE CASA | O15: 14
... A143: LETONIA | C143: ZAPATERO | K143: NIGERIA | L143: 03034 | N143: MODELO | O143: 145
A144: LIBANO | K144: REPUBLICA CENTROAFRICANA | L144: 03035
A145: LIBERIA | K145: RWANDA | L145: 03036
A146: LIBIA | K146: SANTO TOME Y PRINCIPE | L146: 03037
A147: LIECHTENSTEIN | K147: SENEGAL | L147: 03038
A148: LITUANIA | K148: SEYCHELLES | L148: 03039
A149: LUXEMBURGO | K149: SIERRA LEONA | L149: 03040
A150: MACAO | K150: SOMALIA | L150: 03041
A151: MACEDONIA | K151: SWAZILANDIA | L151: 03042
A152: MADAGASCAR | K152: SUDAFRICA | L152: 03043
A153: MALASIA | K153: SUDAN | L153: 03044
A154: MALAWI | K154: TANZANIA | L154: 03045
A155: MALDIVES | K155: TOGO | L155: 03046
... A251: ZIMBABWE | K251: TERR. BRITANICO DEL O. INDICO | L251: 05053
K252: TIMOR ORIENTAL | L252: 05054
K253: ALAND | L253: 06045
K254: ESLOVAKIA | L254: 06046
K255: GIBRALTAR | L255: 06047
K256: GUERNSEY | L256: 06048
K257: ISLA DE MAN | L257: 06049
K258: ISLAS FAEROE | L258: 06050
K259: ISLAS GEORGIAS DEL SUR | L259: 06051

Sheet Lista Dpto Prov Dist
A1: DEPARTAMENTO | B1: AMAZONAS | C1: ANCASH | D1: APURIMAC | E1: AREQUIPA | F1: AYACUCHO | G1: CAJAMARCA | H1: CALLAO | I1: CUSCO | J1: HUANCAVELICA | K1: HUANUCO | L1: ICA | M1: JUNIN | N1: LA_LIBERTAD | O1: LAMBAYEQUE | P1: LIMA | Q1: LORETO | R1: MADRE_DE_DIOS | S1: MOQUEGUA | T1: PASCO | U1: PIURA | V1: PUNO | W1: SAN_MARTIN | X1: TACNA | Y1: TUMBES | Z1: UCAYALI
A2: AMAZONAS | B2: BAGUA | C2: AIJA | D2: ABANCAY | E2: AREQUIPA_ | F2: CANGALLO | G2: CAJABAMBA | H2: CALLAO_ | I2: ACOMAYO | J2: ACOBAMBA | K2: AMBO | L2: CHINCHA | M2: CHANCHAMAYO | N2: ASCOPE | O2: CHICLAYO | P2: BARRANCA | Q2: ALTO_AMAZONAS | R2: MANU | S2: GENERAL_SANCHEZ_CERRO | T2: DANIEL_ALCIDES_CARRION | U2: AYABACA | V2: AZANGARO | W2: BELLAVISTA | X2: CANDARAVE | Y2: CONTRALMIRANTE_VILLAR | Z2: ATALAYA
A3: ANCASH | B3: BONGARA | C3: ANTONIO_RAYMONDI | D3: ANDAHUAYLAS | E3: CAMANA | F3: HUAMANGA | G3: CAJAMARCA_ | I3: ANTA | J3: ANGARAES | K3: DOS_DE_MAYO | L3: ICA_ | M3: CHUPACA | N3: BOLIVAR | O3: FERREÑAFE | P3: CAJATAMBO | Q3: DATEM_DEL_MARAÑON | R3: TAHUAMANU | S3: ILO | T3: OXAPAMPA | U3: HUANCABAMBA | V3: CARABAYA | W3: EL_DORADO | X3: JORGE_BASADRE | Y3: TUMBES_ | Z3: CORONEL_PORTILLO
A4: APURIMAC | B4: CHACHAPOYAS | C4: ASUNCION | D4: ANTABAMBA | E4: CARAVELI | F4: HUANCA_SANCOS | G4: CELENDIN | I4: CALCA | J4: CASTROVIRREYNA | K4: HUACAYBAMBA | L4: NAZCA | M4: CONCEPCION | N4: CHEPEN | O4: LAMBAYEQUE_ | P4: CANTA | Q4: LORETO_ | R4: TAMBOPATA | S4: MARISCAL_NIETO | T4: PASCO_ | U4: MORROPON | V4: CHUCUITO | W4: HUALLAGA | X4: TACNA_ | Y4: ZARUMILLA | Z4: PADRE_ABAD
A5: AREQUIPA | B5: CONDORCANQUI | C5: BOLOGNESI | D5: AYMARAES | E5: CASTILLA | F5: HUANTA | G5: CHOTA | I5: CANAS | J5: CHURCAMPA | K5: HUAMALIES | L5: PALPA | M5: HUANCAYO | N5: GRAN_CHIMU | P5: CAÑETE | Q5: MARISCAL_RAMON_CASTILLA | U5: PAITA | V5: EL_COLLAO | W5: LAMAS | X5: TARATA | Z5: PURUS
A6: AYACUCHO | B6: LUYA | C6: CARHUAZ | D6: CHINCHEROS | E6: CAYLLOMA | F6: LA_MAR | G6: CONTUMAZA | I6: CANCHIS | J6: HUANCAVELICA | K6: HUANUCO_ | L6: PISCO | M6: JAUJA | N6: JULCAN | P6: HUARAL | Q6: MAYNAS | U6: PIURA_ | V6: HUANCANE | W6: MARISCAL_CACERES
A7: CAJAMARCA | B7: RODRIGUEZ_DE_MENDOZA | C7: CARLOS_FERMIN_FITZCARRALD | D7: COTABAMBAS | E7: CONDESUYOS | F7: LUCANAS | G7: CUTERVO | I7: CHUMBIVILCAS | J7: HUAYTARA | K7: LAURICOCHA | M7: JUNIN_ | N7: OTUZCO | P7: HUAROCHIRI | Q7: PUTUMAYO | U7: SECHURA | V7: LAMPA | W7: MOYOBAMBA
A8: CALLAO | B8: UTCUBAMBA | C8: CASMA | D8: GRAU | E8: ISLAY | F8: PARINACOCHAS | G8: HUALGAYOC | I8: CUSCO_ | J8: TAYACAJA | K8: LEONCIO_PRADO | M8: SATIPO | N8: PACASMAYO | P8: HUAURA | Q8: REQUENA | U8: SULLANA | V8: MELGAR | W8: PICOTA
A9: CUSCO | C9: CORONGO | E9: LA_UNION | F9: PAUCAR_DEL_SARA_SARA | G9: JAEN | I9: ESPINAR | K9: MARAÑON | M9: TARMA | N9: PATAZ | P9: LIMA_ | Q9: UCAYALI_ | U9: TALARA | V9: MOHO | W9: RIOJA
A10: HUANCAVELICA | C10: HUARAZ | F10: SUCRE | G10: SAN_IGNACIO | I10: LA_CONVENCION | K10: PACHITEA | M10: YAULI | N10: SANCHEZ_CARRION | P10: OYON | V10: PUNO_ | W10: SAN_MARTIN_
A11: HUANUCO | C11: HUARI | F11: VICTOR_FAJARDO | G11: SAN_MARCOS | I11: PARURO | K11: PUERTO_INCA | N11: SANTIAGO_DE_CHUCO | P11: YAUYOS | V11: SAN_ANTONIO_DE_PUTINA | W11: TOCACHE
A12: ICA | C12: HUARMEY | F12: VILCAS_HUAMAN | G12: SAN_MIGUEL | I12: PAUCARTAMBO | K12: YAROWILCA | N12: TRUJILLO | V12: SAN_ROMAN
A13: JUNIN | C13: HUAYLAS | G13: SAN_PABLO | I13: QUISPICANCHI | N13: VIRU | V13: SANDIA
A14: LA_LIBERTAD | C14: MARISCAL_LUZURIAGA | G14: SANTA_CRUZ | I14: URUBAMBA | V14: YUNGUYO
A15: LAMBAYEQUE | C15: OCROS
A16: LIMA | C16: PALLASCA
A17: LORETO | C17: POMABAMBA
A18: MADRE_DE_DIOS | C18: RECUAY
A19: MOQUEGUA | C19: SANTA
A20: PASCO | C20: SIHUAS
A21: PIURA | C21: YUNGAY
A22: PUNO
A23: SAN_MARTIN
A24: TACNA
A25: TUMBES
A26: UCAYALI
A34: 1 | B34: 2 | C34: 3 | D34: 4 | E34: 5 | F34: 6 | G34: 7 | H34: 8 | I34: 9 | J34: 10 | K34: 11 | L34: 12 | M34: 13 | N34: 14 | O34: 15 | P34: 16 | Q34: 17 | R34: 18 | S34: 19 | T34: 20 | U34: 21 | V34: 22 | W34: 23 | X34: 24 | Y34: 25 | Z34: 26 | AA34: 27 | AB34: 28 | AC34: 29 | AD34: 30 | AE34: 31 | AF34: 32 | AG34: 33 | AH34: 34 | AI34: 35 | AJ34: 36 | AK34: 37 | AL34: 38 | AM34: 39 | AN34: 40 | AO34: 41 | AP34: 42 | AQ34: 43 | AR34: 44 | AS34: 45 | AT34: 46 | AU34: 47 | AV34: 48 | AW34: 49 | AX34: 50 | AY34: 51 | AZ34: 52 | BA34: 53 | BB34: 54 | BC34: 55 | BD34: 56 | BE34: 57 | BF34: 58 | BG34: 59 | BH34: 60 | BI34: 61 | BJ34: 62 | BK34: 63 | BL34: 64 | BM34: 65 | BN34: 66 | BO34: 67 | BP34: 68 | BQ34: 69 | BR34: 70 | BS34: 71 | BT34: 72 | BU34: 73 | BV34: 74 | BW34: 75 | BX34: 76 | BY34: 77 | BZ34: 78 | CA34: 79 | CB34: 80 | CC34: 81 | CD34: 82 | CE34: 83 | CF34: 84 | CG34: 85 | CH34: 86 | CI34: 87 | CJ34: 88 | CK34: 89 | CL34: 90 | CM34: 91 | CN34: 92 | CO34: 93 | CP34: 94 | CQ34: 95 | CR34: 96 | CS34: 97 | CT34: 98 | CU34: 99 | CV34: 100 | CW34: 101 | CX34: 102 | CY34: 103 | CZ34: 104 | DA34: 105 | DB34: 106 | DC34: 107 | DD34: 108 | DE34: 109 | DF34: 110 | DG34: 111 | DH34: 112 | DI34: 113 | DJ34: 114 | DK34: 115 | DL34: 116 | DM34: 117 | DN34: 118 | DO34: 119 | DP34: 120 | DQ34: 121 | DR34: 122 | DS34: 123 | DT34: 124 | DU34: 125 | DV34: 126 | DW34: 127 | DX34: 128 | DY34: 129 | DZ34: 130 | EA34: 131 | EB34: 132 | EC34: 133 | ED34: 134 | EE34: 135 | EF34: 136 | EG34: 137 | EH34: 138 | EI34: 139 | EJ34: 140 | EK34: 141 | EL34: 142 | EM34: 143 | EN34: 144 | EO34: 145 | EP34: 146 | EQ34: 147 | ER34: 148 | ES34: 149 | ET34: 150 | EU34: 151 | EV34: 152 | EW34: 153 | EX34: 154 | EY34: 155 | EZ34: 156 | FA34: 157 | FB34: 158 | FC34: 159 | FD34: 160 | FE34: 161 | FF34: 162 | FG34: 163 | FH34: 164 | FI34: 165 | FJ34: 166 | FK34: 167 | FL34: 168 | FM34: 169 | FN34: 170 | FO34: 171 | FP34: 172 | FQ34: 173 | FR34: 174 | FS34: 175 | FT34: 176 | FU34: 177 | FV34: 178 | FW34: 179 | FX34: 180 | FY34: 181 | FZ34: 182 | GA34: 183 | GB34: 184 | GC34: 185 | GD34: 186 | GE34: 187 | GF34: 188 | GG34: 189 | GH34: 190 | GI34: 191 | GJ34: 192 | GK34: 193 | GL34: 194 | GM34: 195 | GN34: 196
A35: ABANCAY | B35: ACOBAMBA | C35: ACOMAYO | D35: AIJA | E35: ALTO_AMAZONAS | F35: AMBO | G35: ANDAHUAYLAS | H35: ANGARAES | I35: ANTA | J35: ANTABAMBA | K35: ANTONIO_RAYMONDI | L35: AREQUIPA_ | M35: ASCOPE | N35: ASUNCION | O35: ATALAYA | P35: AYABACA | Q35: AYMARAES | R35: AZANGARO | S35: BAGUA | T35: BARRANCA | U35: BELLAVISTA | V35: BOLIVAR | W35: BOLOGNESI | X35: BONGARA | Y35: CAJABAMBA | Z35: CAJAMARCA_ | AA35: CAJATAMBO | AB35: CALCA | AC35: CALLAO_ | AD35: CAMANA | AE35: CANAS | AF35: CANCHIS | AG35: CANDARAVE | AH35: CANGALLO | AI35: CANTA | AJ35: CAÑETE | AK35: CARABAYA | AL35: CARAVELI | AM35: CARHUAZ | AN35: CARLOS_FERMIN_FITZCARRALD | AO35: CASMA | AP35: CASTILLA | AQ35: CASTROVIRREYNA | AR35: CAYLLOMA | AS35: CELENDIN | AT35: CHACHAPOYAS | AU35: CHANCHAMAYO | AV35: CHEPEN | AW35: CHICLAYO | AX35: CHINCHA | AY35: CHINCHEROS | AZ35: CHOTA | BA35: CHUCUITO | BB35: CHUMBIVILCAS | BC35: CHUPACA | BD35: CHURCAMPA | BE35: CONCEPCION | BF35: CONDESUYOS | BG35: CONDORCANQUI | BH35: CONTRALMIRANTE_VILLAR | BI35: CONTUMAZA | BJ35: CORONEL_PORTILLO | BK35: CORONGO | BL35: COTABAMBAS | BM35: CUSCO_ | BN35: CUTERVO | BO35: DANIEL_ALCIDES_CARRION | BP35: DATEM_DEL_MARAÑON | BQ35: DOS_DE_MAYO | BR35: EL_COLLAO | BS35: EL_DORADO | BT35: ESPINAR | BU35: FERREÑAFE | BV35: GENERAL_SANCHEZ_CERRO | BW35: GRAN_CHIMU | BX35: GRAU | BY35: HUACAYBAMBA | BZ35: HUALGAYOC | CA35: HUALLAGA | CB35: HUAMALIES | CC35: HUAMANGA | CD35: HUANCA_SANCOS | CE35: HUANCABAMBA | CF35: HUANCANE | CG35: HUANCAVELICA | CH35: HUANCAYO | CI35: HUANTA | CJ35: HUANUCO_ | CK35: HUARAL | CL35: HUARAZ | CM35: HUARI | CN35: HUARMEY | CO35: HUAROCHIRI | CP35: HUAURA | CQ35: HUAYLAS | CR35: HUAYTARA | CS35: ICA_ | CT35: ILO | CU35: ISLAY | CV35: JAEN | CW35: JAUJA | CX35: JORGE_BASADRE | CY35: JULCAN | CZ35: JUNIN_ | DA35: LA_CONVENCION | DB35: LA_MAR | DC35: LA_UNION | DD35: LAMAS | DE35: LAMBAYEQUE_ | DF35: LAMPA | DG35: LAURICOCHA | DH35: LEONCIO | DI35: LIMA_ | DJ35: LORETO_ | DK35: LUCANAS | DL35: LUYA | DM35: MANU | DN35: MARAÑON | DO35: MARISCAL_CACERES | DP35: MARISCAL_LUZURIAGA | DQ35: MARISCAL_NIETO | DR35: MARISCAL_RAMON_CASTILLA | DS35: MAYNAS | DT35: MELGAR | DU35: MOHO | DV35: MORROPON | DW35: MOYOBAMBA | DX35: NAZCA | DY35: OCROS | DZ35: OTUZCO | EA35: OXAPAMPA | EB35: OYON | EC35: PACASMAYO | ED35: PACHITEA | EE35: PADRE_ABAD | EF35: PAITA | EG35: PALLASCA | EH35: PALPA | EI35: PARINACOCHAS | EJ35: PARURO | EK35: PASCO_ | EL35: PATAZ | EM35: PAUCAR_DEL_SARA_SARA | EN35: PAUCARTAMBO | EO35: PICOTA | EP35: PISCO | EQ35: PIURA_ | ER35: POMABAMBA | ES35: PUERTO_INCA | ET35: PUNO_ | EU35: PURUS | EV35: PUTUMAYO | EW35: QUISPICANCHI | EX35: RECUAY | EY35: REQUENA | EZ35: RIOJA | FA35: RODRIGUEZ_DE_MENDOZA | FB35: SAN_ANTONIO_DE_PUTINA | FC35: SAN_IGNACIO | FD35: SAN_MARCOS | FE35: SAN_MARTIN_ | FF35: SAN_MIGUEL | FG35: SAN_PABLO | FH35: SAN_ROMAN | FI35: SANCHEZ_CARRION | FJ35: SANDIA | FK35: SANTA | FL35: SANTA_CRUZ | FM35: SANTIAGO_DE_CHUCO | FN35: SATIPO | FO35: SECHURA | FP35: SIHUAS | FQ35: SUCRE | FR35: SULLANA | FS35: TACNA_ | FT35: TAHUAMANU | FU35: TALARA | FV35: TAMBOPATA | FW35: TARATA | FX35: TARMA | FY35: TAYACAJA | FZ35: TOCACHE | GA35: TRUJILLO | GB35: TUMBES_ | GC35: UCAYALI_ | GD35: URUBAMBA | GE35: UTCUBAMBA | GF35: VICTOR_FAJARDO | GG35: VILCAS | GH35: VIRU | GI35: YAROWILCA | GJ35: YAULI | GK35: YAUYOS | GL35: YUNGAY | GM35: YUNGUYO | GN35: ZARUMILLA
A36: ABANCAY | B36: ACOBAMBA | C36: ACOPIA | D36: AIJA | E36: BALSAPUERTO | F36: AMBO | G36: ANDAHUAYLAS | H36: LIRCAY | I36: ANCHONGA | J36: ANTABAMBA | K36: ACZO | L36: ALTO_SELVA_ALEGRE | M36: ASCOPE | N36: ACOCHACA | O36: RAYMONDI | P36: AYABACA | Q36: CAPAYA | R36: ACHAYA | S36: ARAMANGO | T36: BARRANCA | U36: ALTO_BIAVO | V36: BAMBAMARCA | W36: ABELARDO_PARDO_LEZAMETA | X36: CHISQUILLA | Y36: CACHACHI | Z36: ASUNCION | AA36: CAJATAMBO | AB36: CALCA | AC36: BELLAVISTA | AD36: CAMANA | AE36: CHECCA | AF36: CHECACUPE | AG36: CAIRANI | AH36: CANGALLO | AI36: ARAHUAY | AJ36: ASIA | AK36: AJOYANI | AL36: ACARI | AM36: ACOPAMPA | AN36: SAN_LUIS | AO36: BUENA_VISTA_ALTA | AP36: ANDAGUA | AQ36: ARMA | AR36: ACHOMA | AS36: CELENDIN | AT36: ASUNCION | AU36: CHANCHAMAYO | AV36: CHEPEN | AW36: CAYALTI | AX36: ALTO_LARAN | AY36: ANCO_HUALLO | AZ36: ANGUIA | BA36: DESAGUADERO | BB36: CAPACMARCA | BC36: AHUAC | BD36: ANCO | BE36: ACO | BF36: ANDARAY | BG36: EL_CENEPA | BH36: CANOAS_DE_PUNTA_SA | BI36: CHILETE | BJ36: CALLERIA | BK36: ACO | BL36: CHALLHUAHUACHO | BM36: CCORCA | BN36: CALLAYUC | BO36: CHACAYAN | BP36: ANDOA | BQ36: CHUQUIS | BR36: CAPAZO | BS36: AGUA_BLANCA | BT36: ALTO_PICHIGUA | BU36: CAÑARIS | BV36: CHOJATA | BW36: CASCAS | BX36: CHUQUIBAMBILLA | BY36: CANCHABAMBA | BZ36: BAMBAMARCA | CA36: ALTO_SAPOSOA | CB36: ARANCAY | CC36: ACOCRO | CD36: CARAPO | CE36: CANCHAQUE | CF36: COJATA | CG36: ACOBAMBILLA | CH36: CARHUACALLANGA | CI36: AYAHUANCO | CJ36: AMARILIS | CK36: ATAVILLOS_ALTO | CL36: COCHABAMBA | CM36: ANRA | CN36: COCHAPETI | CO36: ANTIOQUIA | CP36: AMBAR | CQ36: CARAZ | CR36: AYAVI | CS36: ICA | CT36: EL_ALGARROBAL | CU36: COCACHACRA | CV36: BELLAVISTA | CW36: ACOLLA | CX36: ILABAYA | CY36: CALAMARCA | CZ36: CARHUAMAYO | DA36: ECHARATE | DB36: ANCHIHUA | DC36: ALCA | DD36: ALONSO_DE_ALVARADO | DE36: CHOCHOPE | DF36: CABANILLA | DG36: BAÑOS | DH36: DANIEL_ALOMIA_ROBLES | DI36: ANCON | DJ36: NAUTA | DK36: AUCARA | DL36: CAMPORREDONDO | DM36: FITZCARRALD | DN36: CHOLON | DO36: CAMPANILLA | DP36: CASCA | DQ36: CARUMAS | DR36: PEBAS | DS36: ALTO_NANAY | DT36: ANTAUTA | DU36: CONIMA | DV36: BUENOS_AIRES | DW36: CALZADA | DX36: CHANGUILLO | DY36: ACAS | DZ36: AGALLPAMPA | EA36: CHONTABAMBA | EB36: ANDAJES | EC36: GUADALUPE | ED36: CHAGLLA | EE36: ALEXANDER_VON_HUMBOLD | EF36: AMOTAPE | EG36: BOLOGNESI | EH36: LLIPATA | EI36: CHUMPI | EJ36: ACCHA | EK36: CHAUPIMARCA | EL36: BULDIBUYO | EM36: COLTA | EN36: CAICAY | EO36: BUENOS_AIRES | EP36: HUANCANO | EQ36: CASTILLA | ER36: HUAYLLAN | ES36: CODO_DEL_POZUZO | ET36: ACORA | EU36: PURUS | EV36: PUTUMAY | EW36: ANDAHUAYLILLAS | EX36: CATAC | EY36: ALTO_TAPICHE | EZ36: AWAJUN | FA36: CHIRIMOTO | FB36: ANANEA | FC36: CHIRINOS | FD36: CHANCAY | FE36: ALBERTO_LEVEAU | FF36: BOLIVAR | FG36: SAN_BERNARDINO | FH36: CABANA | FI36: CHUGAY | FJ36: ALTO_INAMBARI | FK36: CACERES_DEL_PERU | FL36: ANDABAMBA | FM36: ANGASMARCA | FN36: COVIRIALI | FO36: BELLAVISTA_DE_LA_UNION | FP36: ACOBAMBA | FQ36: BELEN | FR36: BELLAVISTA | FS36: ALTO_DE_LA_ALIANZA | FT36: IBERIA | FU36: EL_ALTO | FV36: INAMBARI | FW36: CHUCATAMANI | FX36: ACOBAMBA | FY36: ACOSTAMBO | FZ36: NUEVO_PROGRESO | GA36: EL_PORVENIR | GB36: CORRALES | GC36: CONTAMANA | GD36: CHINCHERO | GE36: BAGUA_GRANDE | GF36: ALCAMENCA | GG36: ACCOMARCA | GH36: CHAO | GI36: APARICIO_POMARES | GJ36: CHACAPALPA | GK36: ALIS | GL36: CASCAPARA | GM36: ANAPIA | GN36: AGUAS_VERDES
A37: CHACOCHE | B37: ANDABAMBA | C37: ACOS | D37: CORIS | E37: BARRANCA | F37: CAYNA | G37: ANDARAPA | H37: ANCHONGA | I37: CALLANMARCA | J37: EL_ORO | K37: CHACCHO | L37: AREQUIPA | M37: CASA_GRANDE | N37: CHACAS | O37: SEPAHUA | P37: FRIAS | Q37: CARAYBAMBA | R37: ARAPA | S37: BAGUA | T37: PARAMONGA | U37: BAJO_BIAVO | V37: BOLIVAR | W37: ANTONIO_RAYMONDI | X37: CHURUJA | Y37: CAJABAMBA | Z37: CAJAMARCA | AA37: COPA | AB37: COYA | AC37: CALLAO | AD37: JOSE_MARIA_QUIMPER | AE37: KUNTURKANKI | AF37: COMBAPATA | AG37: CAMILACA | AH37: CHUSCHI | AI37: CANTA | AJ37: CALANGO | AK37: AYAPATA | AL37: ATICO | AM37: AMASHCA | AN37: SAN_NICOLAS | AO37: CASMA | AP37: APLAO | AQ37: AURAHUA | AR37: CABANACONDE | AS37: CHUMUCH | AT37: BALSAS | AU37: PERENE | AV37: PACANGA | AW37: CHICLAYO | AX37: CHAVIN | AY37: CHINCHEROS | AZ37: CHADIN | BA37: HUACULLANI | BB37: CHAMACA | BC37: CHONGOS_BAJO | BD37: CHINCHIHUASI | BE37: ANDAMARCA | BF37: CAYARANI | BG37: NIEVA | BH37: CASITAS | BI37: CONTUMAZA | BJ37: CAMPOVERDE | BK37: BAMBAS | BL37: COTABAMBAS | BM37: CUSCO | BN37: CHOROS | BO37: GOYLLARISQUIZGA | BP37: BARRANCA_DATEM_DEL_MARAÑON | BQ37: LA_UNION | BR37: CONDURIRI | BS37: SAN_JOSE_DE_SISA | BT37: CONDOROMA | BU37: FERREÑAFE | BV37: COALAQUE | BW37: LUCMA | BX37: CURASCO | BY37: COCHABAMBA | BZ37: CHUGUR | CA37: EL_ESLABON | CB37: CHAVIN_DE_PARIARCA | CC37: ACOS_VINCHOS | CD37: SACSAMARCA | CE37: EL_CARMEN_DE_LA_FRONTERA | CF37: HUANCANE | CG37: ACORIA | CH37: CHACAPAMPA | CI37: CANAYR | CJ37: CHINCHAO | CK37: ATAVILLOS_BAJO | CL37: COLCABAMBA | CM37: CAJAY | CN37: CULEBRAS | CO37: CALLAHUANCA | CP37: CALETA_DE_CARQUIN | CQ37: HUALLANCA | CR37: CORDOVA | CS37: LA_TINGUIÑA | CT37: ILO | CU37: DEAN_VALDIVIA | CV37: CHONTALI | CW37: APATA | CX37: ITE | CY37: CARABAMBA | CZ37: JUNIN | DA37: HUAYOPATA | DB37: ANCO | DC37: CHARCANA | DD37: BARRANQUITA | DE37: ILLIMO | DF37: CALAPUJA | DG37: JESUS | DH37: HERMILIO_VALDIZAN | DI37: ATE | DJ37: PARINARI | DK37: CABANA | DL37: COCABAMBA | DM37: HUEPETUHE | DN37: HUACRACHUCO | DO37: HUICUNGO | DP37: ELEAZAR_GUZMAN_BARRON | DQ37: CUCHUMBAYA | DR37: RAMON_CASTILLA | DS37: BELEN | DT37: AYAVIRI | DU37: HUAYRAPATA | DV37: CHALACO | DW37: HABANA | DX37: EL_INGENIO | DY37: CAJAMARQUILLA | DZ37: CHARAT | EA37: CONSTITUCIO | EB37: CAUJUL | EC37: JEQUETEPEQUE | ED37: MOLINO | EE37: CURIMANA | EF37: ARENAL | EG37: CABANA | EH37: PALPA | EI37: CORACORA | EJ37: CCAPI | EK37: HUACHON | EL37: CHILLIA | EM37: CORCULLA | EN37: CHALLABAMBA | EO37: CASPISAPA | EP37: HUMAY | EQ37: CATACAOS | ER37: PAROBAMBA | ES37: HONORIA | ET37: AMANTANI | EV37: ROSA_PANDUR | EW37: CAMANTI | EX37: COTAPARACO | EY37: CAPELO | EZ37: ELIAS_SOPLIN_VARGAS | FA37: COCHAMAL | FB37: PEDRO_VILCA_APAZA | FC37: HUARANGO | FD37: EDUARDO_VILLANUEVA | FE37: CACATACHI | FF37: CALQUIS | FG37: SAN_LUIS | FH37: CABANILLAS | FI37: COCHORCO | FJ37: CUYOCUYO | FK37: CHIMBOTE | FL37: CATACHE | FM37: CACHICADAN | FN37: LLAYLLA | FO37: BERNAL | FP37: ALFONSO_UGARTE | FQ37: CHALCOS | FR37: IGNACIO_ESCUDERO | FS37: CALANA | FT37: IÑAPARI | FU37: LA_BREA | FV37: LABERINTO | FW37: ESTIQUE | FX37: HUARICOLCA | FY37: ACRAQUIA | FZ37: POLVORA | GA37: FLORENCIA_DE_MORA | GB37: LA_CRUZ | GC37: INAHUAYA | GD37: HUAYLLABAMBA | GE37: CAJARURO | GF37: APONGO | GG37: CARHUANCA | GH37: GUADALUPITO | GI37: CAHUAC | GJ37: HUAY_HUAY | GK37: AYAUCA | GL37: MANCOS | GM37: COPANI | GN37: MATAPALO
A38: CIRCA | B38: ANTA | C38: MOSOC_LLACTA | D38: HUACLLAN | E38: CAHUAPANAS | F38: COLPAS | G38: CHIARA | H38: CALLANMARCA | I38: CCOCHACCASA | J38: HUAQUIRCA | K38: CHINGAS | L38: CAYMA | M38: CHICAMA | O38: TAHUANIA | P38: JILILI | Q38: CHALHUANCA | R38: ASILLO | S38: COPALLIN | T38: PATIVILCA | U38: BELLAVISTA | V38: CONDORMARCA | W38: AQUIA | X38: COROSHA | Y38: CONDEBAMBA | Z38: CHETILLA | AA38: GORGOR | AB38: LAMAY | AC38: CARMEN_DE_LA_LEGUA_REYNOSO | AD38: MARIANO_NICOLAS_VALCARCEL | AE38: LANGUI | AF38: MARANGANI | AG38: CANDARAVE | AH38: LOS_MOROCHUCOS | AI38: HUAMANTANGA | AJ38: CERRO_AZUL | AK38: COASA | AL38: ATIQUIPA | AM38: ANTA | AN38: YAUYA | AO38: COMANDANTE_NOEL | AP38: AYO | AQ38: CAPILLAS | AR38: CALLALLI | AS38: CORTEGANA | AT38: CHACHAPOYAS | AU38: PICHANAQUI | AV38: PUEBLO_NUEVO | AW38: CHONGOYAPE | AX38: CHINCHA_ALTA | AY38: COCHARCAS | AZ38: CHALAMARCA | BA38: JULI | BB38: COLQUEMARCA | BC38: CHUPACA | BD38: CHURCAMPA | BE38: CHAMBARA | BF38: CHICHAS | BG38: RIO_SANTIAGO | BH38: ZORRITOS | BI38: CUPISNIQUE | BJ38: IPARIA | BK38: CORONGO | BL38: COYLLURQUI | BM38: POROY | BN38: CUJILLO | BO38: PAUCAR | BP38: CAHUAPANAS | BQ38: MARIAS | BR38: ILAVE | BS38: SAN_MARTIN | BT38: COPORAQUE | BU38: INCAHUASI | BV38: ICHUÑA | BW38: MARMOT | BX38: CURPAHUASI | BY38: HUACAYBAMBA | BZ38: HUALGAYOC | CA38: PISCOYACU | CB38: JACAS_GRANDE | CC38: ANDRES_AVELINO_CACERE | CD38: SANCOS | CE38: HUANCABAMBA | CF38: HUATASANI | CG38: ASCENSION | CH38: CHICCHE | CI38: HUAMANGUILLA | CJ38: CHURUBAMBA | CK38: AUCALLAMA | CL38: HUANCHAY | CM38: CHAVIN_DE_HUANTAR | CN38: HUARMEY | CO38: CARAMPOMA | CP38: CHECRAS | CQ38: HUATA | CR38: HUAYACUNDO_ARMA | CS38: LOS_AQUIJES | CT38: PACOCHA | CU38: ISLAY | CV38: COLASAY | CW38: ATAURA | CX38: LOCUMBA | CY38: HUASO | CZ38: ONDORES | DA38: INKAWAS | DB38: AYNA | DC38: COTAHUASI | DD38: CAYNARACHI | DE38: JAYANCA | DF38: LAMPA | DG38: JIVIA | DH38: JOSE_CRESPO_Y_CASTILLO | DI38: BARRANCO | DJ38: TIGRE | DK38: CARMEN_SALCEDO | DL38: COLCAMAR | DM38: MADRE_DE_DIOS | DN38: SAN_BUENAVENTURA | DO38: JUANJUI | DP38: FIDEL_OLIVAS_ESCUDERO | DQ38: MOQUEGUA | DR38: SAN_PABLO | DS38: FERNANDO_LORES | DT38: CUPI | DU38: MOHO | DV38: CHULUCANAS | DW38: JEPELACIO | DX38: MARCONA | DY38: CARHUAPAMPA | DZ38: HUARANCHAL | EA38: HUANCABAMBA | EB38: COCHAMARCA | EC38: PACASMAYO | ED38: PANAO | EE38: IRAZOLA | EF38: COLAN | EG38: CONCHUCOS | EH38: RIO_GRANDE | EI38: CORONEL_CASTAÑEDA | EJ38: COLCHA | EK38: HUARIACA | EL38: HUANCASPATA | EM38: LAMPA | EN38: COLQUEPATA | EO38: PICOTA | EP38: INDEPENDENCIA | EQ38: CURA_MORI | ER38: POMABAMBA | ES38: PUERTO_INCA | ET38: ATUNCOLLA | EV38: TENIENTE_MANUEL_CLAVER | EW38: CCARHUAYO | EX38: HUAYLLAPAMPA | EY38: EMILIO_SAN_MARTIN | EZ38: NUEVA_CAJAMARCA | FA38: HUAMBO | FB38: PUTINA | FC38: LA_COIPA | FD38: GREGORIO_PITA | FE38: CHAZUTA | FF38: CATILLUC | FG38: SAN_PABLO | FH38: CARACOTO | FI38: CURGOS | FJ38: LIMBANI | FK38: COISHCO | FL38: CHANCAYBAÑOS | FM38: MOLLEBAMBA | FN38: MAZAMARI | FO38: CRISTO_NOS_VALGA | FP38: CASHAPAMPA | FQ38: CHILCAYOC | FR38: LANCONES | FS38: CIUDAD_NUEVA | FT38: TAHUAMANU | FU38: LOBITOS | FV38: LAS_PIEDRAS | FW38: ESTIQUE_PAMPA | FX38: HUASAHUASI | FY38: AHUAYCHA | FZ38: SHUNTE | GA38: HUANCHACO | GB38: PAMPAS_DE_HOSPITAL | GC38: PADRE_MARQUEZ | GD38: MACHUPICCHU | GE38: CUMBA | GF38: ASQUIPATA | GG38: CONCEPCION | GH38: VIRU | GI38: CHACABAMBA | GJ38: LA_OROYA | GK38: AYAVIRI | GL38: MATACOTO | GM38: CUTURAPI | GN38: PAPAYAL
A39: CURAHUASI | B39: CAJA | C39: POMACANCHI | D39: LA_MERCED | E39: JEBEROS | F39: CONCHAMARCA | G39: HUANCARAMA | H39: CCOCHACCASA | I39: CHINCHO | J39: JUAN_ESPINOZA_MEDRANO | K39: LLAMELLIN | L39: CERRO_COLORADO | M39: CHOCOPE | O39: YURUA | P39: LAGUNAS | Q39: CHAPIMARCA | R39: AZANGARO | S39: EL_PARCO | T39: SUPE | U39: HUALLAGA | V39: LONGOTEA | W39: CAJACAY | X39: CUISPES | Y39: SITACOCHA | Z39: COSPAN | AA39: HUANCAPON | AB39: LARES | AC39: LA_PERLA | AD39: MARISCAL_CACERES | AE39: LAYO | AF39: PITUMARCA | AG39: CURIBAYA | AH39: MARIA_PARADO_DE_BELLIDO | AI39: HUAROS | AJ39: CHILCA | AK39: CORANI | AL39: BELLA_UNION | AM39: ATAQUERO | AO39: YAUTAN | AP39: CHACHAS | AQ39: CASTROVIRREYNA | AR39: CAYLLOMA | AS39: HUASMIN | AT39: CHETO | AU39: SAN_LUIS_DE_SHUARO | AW39: ETEN | AX39: CHINCHA_BAJA | AY39: HUACCANA | AZ39: CHIGUIRIP | BA39: KELLUYO | BB39: LIVITACA | BC39: HUACHAC | BD39: COSM | BE39: COCHAS | BF39: CHUQUIBAMBA | BI39: GUZMANGO | BJ39: MANANTA | BK39: CUSCA | BL39: HAQUIRA | BM39: SAN_JERONIMO | BN39: CUTERVO | BO39: SAN_PEDRO_DE_PILLAO | BP39: MANSERICHE | BQ39: PACHAS | BR39: PILCUYO | BS39: SANTA_ROSA | BT39: ESPINAR | BU39: MANUEL_ANTONIO_MESONES_MURO | BV39: LA_CAPILLA | BW39: SAYAPULLO | BX39: GAMARRA | BY39: PINRA | CA39: SACANCHE | CB39: JIRCAN | CC39: AYACUCHO | CD39: SANTIAGO_DE_LUCANAMARCA | CE39: HUARMACA | CF39: INCHUPALLA | CG39: CONAYCA | CH39: CHILCA | CI39: HUANTA | CJ39: HUANUCO | CK39: CHANCAY | CL39: HUARAZ | CM39: HUACACHI | CN39: HUAYAN | CO39: CHICLA | CP39: HUACHO | CQ39: HUAYLAS | CR39: HUAYTARA | CS39: OCUCAJE | CU39: MEJIA | CV39: HUABAL | CW39: CANCHAYLLO | CY39: JULCAN | CZ39: ULCUMAYO | DA39: KIMBIRI | DB39: CHILCAS | DC39: HUAYNACOTAS | DD39: CUÑUMBUQUI | DE39: LAMBAYEQUE | DF39: NICASIO | DG39: QUEROPALCA | DH39: LUYANDO | DI39: BREÑA | DJ39: TROMPETEROS | DK39: CHAVIÑA | DL39: CONILA | DM39: MANU | DO39: PACHIZA | DP39: LLAMA | DQ39: SAMEGUA | DR39: YAVARI | DS39: INDIANA | DT39: LLALLI | DU39: TILALI | DV39: LA_MATANZA | DW39: MOYOBAMBA | DX39: NAZCA | DY39: COCHAS | DZ39: LA_CUESTA | EA39: OXAPAMPA | EB39: NAVAN | EC39: SAN_JOSE | ED39: UMARI | EE39: NESHUY | EF39: LA_HUACA | EG39: HUACASCHUQUE | EH39: SANTA_CRUZ | EI39: PACAPAUSA | EJ39: HUANOQUITE | EK39: HUAYLLAY | EL39: HUAYLILLAS | EM39: MARCABAMBA | EN39: HUANCARANI | EO39: PILLUANA | EP39: PARACAS | EQ39: EL_TALLAN | ER39: QUINUABAMBA | ES39: TOURNAVISTA | ET39: CAPACHICA | EV39: YAGUA | EW39: CCATCA | EX39: LLACLLIN | EY39: JENARO_HERRERA | EZ39: PARDO_MIGUEL | FA39: LIMABAMBA | FB39: QUILCAPUNCU | FC39: NAMBALLE | FD39: ICHOCAN | FE39: CHIPURANA | FF39: EL_PRADO | FG39: TUMBADEN | FH39: JULIACA | FI39: HUAMACHUCO | FJ39: PATAMBUCO | FK39: MACATE | FL39: LA_ESPERANZA | FM39: MOLLEPATA | FN39: MAZAMARI_PANGO | FO39: RINCONADA_LLICUAR | FP39: CHINGALPO | FQ39: HUACAÑA | FR39: MARCAVELICA | FS39: CORONEL_GREGORIO_ALBARRACIN_LANCHIPA | FU39: LOS_ORGANOS | FV39: TAMBOPATA | FW39: SITAJARA | FX39: LA_UNION | FY39: ANDAYMARC | FZ39: TOCACHE | GA39: LA_ESPERANZA | GB39: SAN_JACINTO | GC39: PAMPA_HERMOSA | GD39: MARAS | GE39: EL_MILAGRO | GF39: CANARIA | GG39: HUAMBALPA | GI39: CHAVINILLO | GJ39: MARCAPOMACOCHA | GK39: AZANGARO | GL39: QUILLO | GM39: OLLARAYA | GN39: ZARUMILLA
